BEGIN:VCALENDAR
VERSION:2.0
PRODID:SchoolNow
CALSCALE:GREGORIAN
BEGIN:VEVENT
UID:8a4662f8-a02b-11ed-927a-02fdcf889fc9
DTSTAMP:20230129T232038Z
SUMMARY:Read-A-Thon
URL;VALUE=URI:https://www.norwood.k12.ma.us/cleveland/calendar/3699776/read
 -a-thon
DTSTART:20230301T231900Z
DTEND:20230311T001900Z
END:VEVENT
END:VCALENDAR
