BEGIN:VCALENDAR
VERSION:2.0
PRODID:SchoolNow
CALSCALE:GREGORIAN
BEGIN:VEVENT
UID:57a1751c-a02c-11ed-a413-0e3d64282d1d
DTSTAMP:20230129T232622Z
SUMMARY:Wear Your Favorite Crayon Color Day!
URL;VALUE=URI:https://www.norwood.k12.ma.us/cleveland/calendar/3699777/wear
 -your-favorite-crayon-color-day
DTSTART:20230310T232500Z
DTEND:20230311T002500Z
END:VEVENT
END:VCALENDAR
