BEGIN:VCALENDAR
VERSION:2.0
PRODID:SchoolNow
CALSCALE:GREGORIAN
BEGIN:VEVENT
UID:788e78c4-a02c-11ed-97ab-0e3d64282d1d
DTSTAMP:20230129T232717Z
SUMMARY:Dance-A-Thon!
URL;VALUE=URI:https://www.norwood.k12.ma.us/cleveland/calendar/3699778/danc
 e-a-thon
DTSTART:20230328T222600Z
DTEND:20230328T232600Z
END:VEVENT
END:VCALENDAR
