BEGIN:VCALENDAR
VERSION:2.0
PRODID:SchoolNow
CALSCALE:GREGORIAN
BEGIN:VEVENT
UID:bf60728e-a02c-11ed-a581-0e3d64282d1d
DTSTAMP:20230129T232916Z
SUMMARY:5th Grade ELA MCAS
URL;VALUE=URI:https://www.norwood.k12.ma.us/cleveland/calendar/3699779/5th-
 grade-ela-mcas
DTSTART:20230329T222800Z
DTEND:20230329T232800Z
END:VEVENT
END:VCALENDAR
