BEGIN:VCALENDAR
VERSION:2.0
PRODID:SchoolNow
CALSCALE:GREGORIAN
BEGIN:VEVENT
UID:e0f62ba0-a02c-11ed-9ad1-0e3d64282d1d
DTSTAMP:20230129T233013Z
SUMMARY:5th Grade ELA MCAS
URL;VALUE=URI:https://www.norwood.k12.ma.us/cleveland/calendar/3699780/5th-
 grade-ela-mcas
DTSTART:20230330T222900Z
DTEND:20230330T232900Z
END:VEVENT
END:VCALENDAR
