BEGIN:VCALENDAR
VERSION:2.0
PRODID:SchoolNow
CALSCALE:GREGORIAN
BEGIN:VEVENT
UID:7e789dba-a030-11ed-a31a-0e3d64282d1d
DTSTAMP:20230129T235605Z
SUMMARY:4th Gr ELA MCAS
URL;VALUE=URI:https://www.norwood.k12.ma.us/cleveland/calendar/3699781/4th-
 gr-ela-mcas
DTSTART:20230403T225500Z
DTEND:20230403T235500Z
END:VEVENT
END:VCALENDAR
