BEGIN:VCALENDAR
VERSION:2.0
PRODID:SchoolNow
CALSCALE:GREGORIAN
BEGIN:VEVENT
UID:9a94a714-a030-11ed-9634-0e3d64282d1d
DTSTAMP:20230129T235653Z
SUMMARY:4th Gr ELA MCAS
URL;VALUE=URI:https://www.norwood.k12.ma.us/cleveland/calendar/3699782/4th-
 gr-ela-mcas
DTSTART:20230404T225600Z
DTEND:20230404T235600Z
END:VEVENT
END:VCALENDAR
