BEGIN:VCALENDAR
VERSION:2.0
PRODID:SchoolNow
CALSCALE:GREGORIAN
BEGIN:VEVENT
UID:d7e1ae6e-a030-11ed-a0c3-0e3d64282d1d
DTSTAMP:20230129T235835Z
SUMMARY:3rd Gr ELA MCAS
URL;VALUE=URI:https://www.norwood.k12.ma.us/cleveland/calendar/3699785/3rd-
 gr-ela-mcas
DTSTART:20230405T225700Z
DTEND:20230405T235700Z
END:VEVENT
END:VCALENDAR
