BEGIN:VCALENDAR
VERSION:2.0
PRODID:SchoolNow
CALSCALE:GREGORIAN
BEGIN:VEVENT
UID:f40a34da-a030-11ed-bf35-0e3d64282d1d
DTSTAMP:20230129T235923Z
SUMMARY:3rd Gr ELA MCAS
URL;VALUE=URI:https://www.norwood.k12.ma.us/cleveland/calendar/3699786/3rd-
 gr-ela-mcas
DTSTART:20230406T225800Z
DTEND:20230406T235800Z
END:VEVENT
END:VCALENDAR
