BEGIN:VCALENDAR
VERSION:2.0
PRODID:SchoolNow
CALSCALE:GREGORIAN
BEGIN:VEVENT
UID:253d15ea-a031-11ed-be2e-0e3d64282d1d
DTSTAMP:20230130T000045Z
SUMMARY:3rd Gr Math MCAS
URL;VALUE=URI:https://www.norwood.k12.ma.us/cleveland/calendar/3699787/3rd-
 gr-math-mcas
DTSTART:20230427T225900Z
DTEND:20230427T235900Z
END:VEVENT
END:VCALENDAR
