BEGIN:VCALENDAR
VERSION:2.0
PRODID:SchoolNow
CALSCALE:GREGORIAN
BEGIN:VEVENT
UID:3dd53790-a031-11ed-972d-0e3d64282d1d
DTSTAMP:20230130T000126Z
SUMMARY:3rd Gr Math MCAS
URL;VALUE=URI:https://www.norwood.k12.ma.us/cleveland/calendar/3699788/3rd-
 gr-math-mcas
DTSTART:20230428T230000Z
DTEND:20230429T000000Z
END:VEVENT
END:VCALENDAR
