BEGIN:VCALENDAR
VERSION:2.0
PRODID:SchoolNow
CALSCALE:GREGORIAN
BEGIN:VEVENT
UID:7e9c4232-a031-11ed-bb94-0e3d64282d1d
DTSTAMP:20230130T000315Z
SUMMARY:5th Gr Math MCAS
URL;VALUE=URI:https://www.norwood.k12.ma.us/cleveland/calendar/3699793/5th-
 gr-math-mcas
DTSTART:20230502T230200Z
DTEND:20230503T000200Z
END:VEVENT
END:VCALENDAR
