BEGIN:VCALENDAR
VERSION:2.0
PRODID:SchoolNow
CALSCALE:GREGORIAN
BEGIN:VEVENT
UID:a1b36c50-a031-11ed-adf6-0e3d64282d1d
DTSTAMP:20230130T000414Z
SUMMARY:5th Gr Math MCAS
URL;VALUE=URI:https://www.norwood.k12.ma.us/cleveland/calendar/3699794/5th-
 gr-math-mcas
DTSTART:20230503T230300Z
DTEND:20230504T000300Z
END:VEVENT
END:VCALENDAR
