BEGIN:VCALENDAR
VERSION:2.0
PRODID:SchoolNow
CALSCALE:GREGORIAN
BEGIN:VEVENT
UID:ce2294b4-a031-11ed-b721-0e3d64282d1d
DTSTAMP:20230130T000529Z
SUMMARY:4th Gr Math MCAS
URL;VALUE=URI:https://www.norwood.k12.ma.us/cleveland/calendar/3699795/4th-
 gr-math-mcas
DTSTART:20230509T230400Z
DTEND:20230510T000400Z
END:VEVENT
END:VCALENDAR
