BEGIN:VCALENDAR
VERSION:2.0
PRODID:SchoolNow
CALSCALE:GREGORIAN
BEGIN:VEVENT
UID:eceea720-a031-11ed-a9fc-0e3d64282d1d
DTSTAMP:20230130T000620Z
SUMMARY:4th Gr Math MCAS
URL;VALUE=URI:https://www.norwood.k12.ma.us/cleveland/calendar/3699796/4th-
 gr-math-mcas
DTSTART:20230510T230500Z
DTEND:20230511T000500Z
END:VEVENT
END:VCALENDAR
