BEGIN:VCALENDAR
VERSION:2.0
PRODID:SchoolNow
CALSCALE:GREGORIAN
BEGIN:VEVENT
UID:0f0bc5ea-a032-11ed-896c-0e3d64282d1d
DTSTAMP:20230130T000717Z
SUMMARY:5th Gr Sci/Tech MCAS
URL;VALUE=URI:https://www.norwood.k12.ma.us/cleveland/calendar/3699799/5th-
 gr-sci-tech-mcas
DTSTART:20230517T230600Z
DTEND:20230518T000600Z
END:VEVENT
END:VCALENDAR
