BEGIN:VCALENDAR
VERSION:2.0
PRODID:SchoolNow
CALSCALE:GREGORIAN
BEGIN:VEVENT
UID:2e467aea-a032-11ed-a462-0e3d64282d1d
DTSTAMP:20230130T000810Z
SUMMARY:5th Gr Sci/Tech MCAS
URL;VALUE=URI:https://www.norwood.k12.ma.us/cleveland/calendar/3699800/5th-
 gr-sci-tech-mcas
DTSTART:20230518T230700Z
DTEND:20230519T000700Z
END:VEVENT
END:VCALENDAR
