BEGIN:VCALENDAR
VERSION:2.0
PRODID:SchoolNow
CALSCALE:GREGORIAN
BEGIN:VEVENT
UID:fbe74684-a1ed-11ed-87f6-0eca43978cf9
DTSTAMP:20230201T050502Z
SUMMARY:February Break Acceleration Academy
URL;VALUE=URI:https://www.norwood.k12.ma.us/cleveland/calendar/3705822/febr
 uary-break-acceleration-academy
DTSTART;VALUE=DATE:20230221
DTEND;VALUE=DATE:20230225
END:VEVENT
END:VCALENDAR
