BEGIN:VCALENDAR
VERSION:2.0
PRODID:SchoolNow
CALSCALE:GREGORIAN
BEGIN:VEVENT
UID:366203e8-f5f5-11ed-a1cd-0e1ad06ec4e7
DTSTAMP:20230519T032824Z
SUMMARY:Kindergarten Step-Up Day
URL;VALUE=URI:https://www.norwood.k12.ma.us/cleveland/calendar/4265976/kind
 ergarten-step-up-day
DTSTART:20230613T130000Z
DTEND:20230613T140000Z
END:VEVENT
END:VCALENDAR
