BEGIN:VCALENDAR
VERSION:2.0
PRODID:SchoolNow
CALSCALE:GREGORIAN
BEGIN:VEVENT
UID:7f545c5e-f5f5-11ed-810c-0e1ad06ec4e7
DTSTAMP:20230519T033027Z
SUMMARY:Cleveland Field Day
URL;VALUE=URI:https://www.norwood.k12.ma.us/cleveland/calendar/4265977/clev
 eland-field-day
DTSTART:20230614T120000Z
DTEND:20230614T130000Z
END:VEVENT
END:VCALENDAR
