BEGIN:VCALENDAR
VERSION:2.0
PRODID:SchoolNow
CALSCALE:GREGORIAN
BEGIN:VEVENT
UID:ab58f562-f5f5-11ed-b9f9-0e1ad06ec4e7
DTSTAMP:20230519T033140Z
SUMMARY:5th Grade Celebration
URL;VALUE=URI:https://www.norwood.k12.ma.us/cleveland/calendar/4265978/5th-
 grade-celebration
DTSTART:20230620T123000Z
DTEND:20230620T133000Z
END:VEVENT
END:VCALENDAR
