BEGIN:VCALENDAR
VERSION:2.0
PRODID:SchoolNow
CALSCALE:GREGORIAN
BEGIN:VEVENT
UID:0c163462-363f-11ee-a551-022d37e437c1
DTSTAMP:20230808T225810Z
SUMMARY:Popsicles With The Principal!
URL;VALUE=URI:https://www.norwood.k12.ma.us/cleveland/calendar/4558795/pops
 icles-with-the-principal
DTSTART:20230829T220000Z
DTEND:20230829T230000Z
END:VEVENT
END:VCALENDAR
