BEGIN:VCALENDAR
VERSION:2.0
PRODID:SchoolNow
CALSCALE:GREGORIAN
BEGIN:VEVENT
UID:a399a3d8-49bc-11ee-a641-0a58a9feac02
DTSTAMP:20230902T181504Z
SUMMARY:First Grade/New Students Orientation
URL;VALUE=URI:https://www.norwood.k12.ma.us/cleveland/calendar/4671350/firs
 t-grade-new-students-orientation
DTSTART:20230905T180000Z
DTEND:20230905T190000Z
END:VEVENT
END:VCALENDAR
