BEGIN:VCALENDAR
VERSION:2.0
PRODID:SchoolNow
CALSCALE:GREGORIAN
BEGIN:VEVENT
UID:f0911734-49bc-11ee-989c-0a58a9feac02
DTSTAMP:20230902T181713Z
SUMMARY:First Day of School Gr 1-5
URL;VALUE=URI:https://www.norwood.k12.ma.us/cleveland/calendar/4671351/firs
 t-day-of-school-gr-1-5
DTSTART:20230906T115000Z
DTEND:20230906T180500Z
END:VEVENT
END:VCALENDAR
