BEGIN:VCALENDAR
VERSION:2.0
PRODID:SchoolNow
CALSCALE:GREGORIAN
BEGIN:VEVENT
UID:e3231c9a-49bd-11ee-9446-0a58a9feac02
DTSTAMP:20230902T182400Z
SUMMARY:Cleveland PTO Meeting
URL;VALUE=URI:https://www.norwood.k12.ma.us/cleveland/calendar/4671358/clev
 eland-pto-meeting
DTSTART:20230926T230000Z
DTEND:20230927T003000Z
END:VEVENT
END:VCALENDAR
