BEGIN:VCALENDAR
VERSION:2.0
PRODID:SchoolNow
CALSCALE:GREGORIAN
BEGIN:VEVENT
UID:03013d4a-60c4-11ee-85eb-0a58a9feac02
DTSTAMP:20231002T013547Z
SUMMARY:Open House
URL;VALUE=URI:https://www.norwood.k12.ma.us/cleveland/calendar/4819184/open
 -house
DTSTART:20231005T210000Z
DTEND:20231005T230000Z
END:VEVENT
END:VCALENDAR
