BEGIN:VCALENDAR
VERSION:2.0
PRODID:SchoolNow
CALSCALE:GREGORIAN
BEGIN:VEVENT
UID:41324306-a788-11ee-83b1-0e88c4759e19
DTSTAMP:20231231T025654Z
SUMMARY:No School-MLK\, Jr. Day
URL;VALUE=URI:https://www.norwood.k12.ma.us/cleveland/calendar/5080833/no-s
 chool-mlk-jr-day
DTSTART:20240115T125000Z
DTEND:20240115T190500Z
END:VEVENT
END:VCALENDAR
