BEGIN:VCALENDAR
VERSION:2.0
PRODID:SchoolNow
CALSCALE:GREGORIAN
BEGIN:VEVENT
UID:07b4402e-a789-11ee-a0f5-0a58a9feac02
DTSTAMP:20231231T030227Z
SUMMARY:Early Release: Dismissal 11:40 a.m.
URL;VALUE=URI:https://www.norwood.k12.ma.us/cleveland/calendar/5080834/earl
 y-release-dismissal-11-40-a-m
DTSTART:20240124T030000Z
DTEND:20240124T040000Z
END:VEVENT
END:VCALENDAR
