BEGIN:VCALENDAR
VERSION:2.0
PRODID:SchoolNow
CALSCALE:GREGORIAN
BEGIN:VEVENT
UID:3ef58982-d52c-11ee-b4f5-0e74db023561
DTSTAMP:20240227T045410Z
SUMMARY:Early Release Day/Parent Conferences
URL;VALUE=URI:https://www.norwood.k12.ma.us/cleveland/calendar/5412712/earl
 y-release-day-parent-conferences
DTSTART:20240307T164700Z
DTEND:20240308T003000Z
END:VEVENT
END:VCALENDAR
