BEGIN:VCALENDAR
VERSION:2.0
PRODID:SchoolNow
CALSCALE:GREGORIAN
BEGIN:VEVENT
UID:6f16e858-d52d-11ee-b372-0a58a9feac02
DTSTAMP:20240227T050240Z
SUMMARY:No School/Good Friday
URL;VALUE=URI:https://www.norwood.k12.ma.us/cleveland/calendar/5412715/no-s
 chool-good-friday
DTSTART:20240329T040100Z
DTEND:20240329T050100Z
END:VEVENT
END:VCALENDAR
