BEGIN:VCALENDAR
VERSION:2.0
PRODID:SchoolNow
CALSCALE:GREGORIAN
BEGIN:VEVENT
UID:ff64c9ba-d52e-11ee-b5a1-0a58a9feac02
DTSTAMP:20240227T051352Z
SUMMARY:April Vacation: 4/15-4/19
URL;VALUE=URI:https://www.norwood.k12.ma.us/cleveland/calendar/5412727/apri
 l-vacation-4-15-4-19
DTSTART:20240415T041200Z
DTEND:20240419T051200Z
END:VEVENT
END:VCALENDAR
