BEGIN:VCALENDAR
VERSION:2.0
PRODID:SchoolNow
CALSCALE:GREGORIAN
BEGIN:VEVENT
UID:c6c7997e-0711-11ef-a804-0e9627f74391
DTSTAMP:20240430T165040Z
SUMMARY:Grade 7 - Norton Outdoor Center - Classroom Field Trip (One Team Pe
 r Day)
URL;VALUE=URI:https://www.norwood.k12.ma.us/cms/calendar/5887678/grade-7-no
 rton-outdoor-center-classroom-field-trip-one-team-per-day
DTSTART:20240610T130000Z
DTEND:20240614T173000Z
END:VEVENT
END:VCALENDAR
