BEGIN:VCALENDAR
VERSION:2.0
PRODID:SchoolNow
CALSCALE:GREGORIAN
BEGIN:VEVENT
UID:ce1b736c-3899-11ef-8d1d-021d6ea3ecb1
DTSTAMP:20240828T154833Z
SUMMARY:Open House at CMS
URL;VALUE=URI:https://www.norwood.k12.ma.us/cms/calendar/6201207/open-house
 -at-cms
DTSTART:20241009T220000Z
DTEND:20241010T000000Z
END:VEVENT
END:VCALENDAR
