BEGIN:VCALENDAR
VERSION:2.0
PRODID:SchoolNow
CALSCALE:GREGORIAN
BEGIN:VEVENT
UID:41d9ccc2-4380-11ef-af38-0261e29961bf
DTSTAMP:20240716T143241Z
SUMMARY:CMS Ice Cream Social
URL;VALUE=URI:https://www.norwood.k12.ma.us/cms/calendar/6267426/cms-ice-cr
 eam-social
DTSTART:20240828T200000Z
DTEND:20240828T220000Z
END:VEVENT
END:VCALENDAR
