BEGIN:VCALENDAR
VERSION:2.0
PRODID:SchoolNow
CALSCALE:GREGORIAN
BEGIN:VEVENT
UID:5f3b5754-4380-11ef-ba57-0ea2de43dde3
DTSTAMP:20240716T143330Z
SUMMARY:CMS 6th Grade Dance
URL;VALUE=URI:https://www.norwood.k12.ma.us/cms/calendar/6267427/cms-6th-gr
 ade-dance
DTSTART:20241025T193000Z
DTEND:20241025T213000Z
END:VEVENT
END:VCALENDAR
