BEGIN:VCALENDAR
VERSION:2.0
PRODID:SchoolNow
CALSCALE:GREGORIAN
BEGIN:VEVENT
UID:e6cde268-4826-11ef-a004-0a58a9feac02
DTSTAMP:20240722T123651Z
SUMMARY:CMS Parent/Teacher Conferences
URL;VALUE=URI:https://www.norwood.k12.ma.us/cms/calendar/6293833/cms-parent
 -teacher-conferences
DTSTART:20241114T230000Z
DTEND:20241115T010000Z
END:VEVENT
END:VCALENDAR
