BEGIN:VCALENDAR
VERSION:2.0
PRODID:SchoolNow
CALSCALE:GREGORIAN
BEGIN:VEVENT
UID:06ed18f2-4827-11ef-bf29-0a58a9feac02
DTSTAMP:20240722T123753Z
SUMMARY:CMS Parent/Teacher Conferences
URL;VALUE=URI:https://www.norwood.k12.ma.us/cms/calendar/6293834/cms-parent
 -teacher-conferences
DTSTART:20241121T180000Z
DTEND:20241121T200000Z
END:VEVENT
END:VCALENDAR
