BEGIN:VCALENDAR
VERSION:2.0
PRODID:SchoolNow
CALSCALE:GREGORIAN
BEGIN:VEVENT
UID:5542fc1a-4827-11ef-9c80-0a58a9feac02
DTSTAMP:20240722T123844Z
SUMMARY:CMS Parent/Teacher Conferences
URL;VALUE=URI:https://www.norwood.k12.ma.us/cms/calendar/6293835/cms-parent
 -teacher-conferences
DTSTART:20241121T230000Z
DTEND:20241122T010000Z
END:VEVENT
END:VCALENDAR
