BEGIN:VCALENDAR
VERSION:2.0
PRODID:SchoolNow
CALSCALE:GREGORIAN
BEGIN:VEVENT
UID:c8ce07ec-7b3f-11ef-8f69-0e68befffa43
DTSTAMP:20240925T154608Z
SUMMARY:Early Release - Half Day - Professional Development - Release at 12
 :30 PM
URL;VALUE=URI:https://www.norwood.k12.ma.us/cms/calendar/6687180/early-rele
 ase-half-day-professional-development-release-at-12-30-pm
DTSTART:20240926T124500Z
DTEND:20240926T163000Z
END:VEVENT
END:VCALENDAR
