BEGIN:VCALENDAR
VERSION:2.0
PRODID:SchoolNow
CALSCALE:GREGORIAN
BEGIN:VEVENT
UID:6fef32f8-7b40-11ef-ab8d-0ebdb9943c0f
DTSTAMP:20240925T131655Z
SUMMARY:Columbus/Indigenous Peoples' Day - Holiday - No School
URL;VALUE=URI:https://www.norwood.k12.ma.us/cms/calendar/6687181/columbus-i
 ndigenous-peoples-day-holiday-no-school
DTSTART:20241014T124500Z
DTEND:20241014T192000Z
END:VEVENT
END:VCALENDAR
