BEGIN:VCALENDAR
VERSION:2.0
PRODID:SchoolNow
CALSCALE:GREGORIAN
BEGIN:VEVENT
UID:bf68eea0-7b40-11ef-a3d3-0a58a9feac02
DTSTAMP:20240925T155347Z
SUMMARY:Early Release - Half Day - Professional Development - Release 12:30
  PM
URL;VALUE=URI:https://www.norwood.k12.ma.us/cms/calendar/6687182/early-rele
 ase-half-day-professional-development-release-12-30-pm
DTSTART:20241031T124500Z
DTEND:20241031T163000Z
END:VEVENT
END:VCALENDAR
