BEGIN:VCALENDAR
VERSION:2.0
PRODID:SchoolNow
CALSCALE:GREGORIAN
BEGIN:VEVENT
UID:46151e38-7b41-11ef-ad0c-0a58a9feac02
DTSTAMP:20240925T132255Z
SUMMARY:No School - Full Professional Development Day
URL;VALUE=URI:https://www.norwood.k12.ma.us/cms/calendar/6687288/no-school-
 full-professional-development-day
DTSTART:20241105T134500Z
DTEND:20241105T202000Z
END:VEVENT
END:VCALENDAR
