BEGIN:VCALENDAR
VERSION:2.0
PRODID:SchoolNow
CALSCALE:GREGORIAN
BEGIN:VEVENT
UID:a61579fe-7b41-11ef-aaff-02bc352869e7
DTSTAMP:20240925T132536Z
SUMMARY:No School - Veterans Day Holiday
URL;VALUE=URI:https://www.norwood.k12.ma.us/cms/calendar/6687289/no-school-
 veterans-day-holiday
DTSTART:20241111T134500Z
DTEND:20241111T202000Z
END:VEVENT
END:VCALENDAR
