BEGIN:VCALENDAR
VERSION:2.0
PRODID:SchoolNow
CALSCALE:GREGORIAN
BEGIN:VEVENT
UID:f1210bac-7b41-11ef-8050-0e3ced33b26f
DTSTAMP:20240925T155906Z
SUMMARY:Early Release - Half Day - All Schools
URL;VALUE=URI:https://www.norwood.k12.ma.us/cms/calendar/6687290/early-rele
 ase-half-day-professional-development-dismissal-at-12-30-pm
DTSTART:20241127T134500Z
DTEND:20241127T173000Z
END:VEVENT
END:VCALENDAR
