BEGIN:VCALENDAR
VERSION:2.0
PRODID:SchoolNow
CALSCALE:GREGORIAN
BEGIN:VEVENT
UID:3340bffa-7b42-11ef-8966-0a58a9feac02
DTSTAMP:20240925T160035Z
SUMMARY:Early Release - Half Day - Parent/Teacher Conferences
URL;VALUE=URI:https://www.norwood.k12.ma.us/cms/calendar/6687291/early-rele
 ase-half-day-thanksgiving-break
DTSTART:20241121T134500Z
DTEND:20241121T173000Z
END:VEVENT
END:VCALENDAR
