BEGIN:VCALENDAR
VERSION:2.0
PRODID:SchoolNow
CALSCALE:GREGORIAN
BEGIN:VEVENT
UID:5e545d78-7b42-11ef-aa6b-0affdc60cb4f
DTSTAMP:20240925T133045Z
SUMMARY:No School - Thanksgiving Break
URL;VALUE=URI:https://www.norwood.k12.ma.us/cms/calendar/6687292/no-school-
 thanksgiving-break
DTSTART:20241128T134500Z
DTEND:20241129T202000Z
END:VEVENT
END:VCALENDAR
