BEGIN:VCALENDAR
VERSION:2.0
PRODID:SchoolNow
CALSCALE:GREGORIAN
BEGIN:VEVENT
UID:941b4cb4-7b42-11ef-8c54-0a58a9feac02
DTSTAMP:20240925T160251Z
SUMMARY:Early Release - Half Day - Dismissal at 12:30 PM - Winter Break
URL;VALUE=URI:https://www.norwood.k12.ma.us/cms/calendar/6687293/early-rele
 ase-half-day-dismissal-at-12-30-pm-winter-break
DTSTART:20241220T133000Z
DTEND:20241220T173000Z
END:VEVENT
END:VCALENDAR
