BEGIN:VCALENDAR
VERSION:2.0
PRODID:SchoolNow
CALSCALE:GREGORIAN
BEGIN:VEVENT
UID:c0f65e04-7b42-11ef-a12d-0affc335a76f
DTSTAMP:20240925T133330Z
SUMMARY:No School - Winter Break
URL;VALUE=URI:https://www.norwood.k12.ma.us/cms/calendar/6687294/no-school-
 winter-break
DTSTART:20241223T134500Z
DTEND:20241231T202000Z
END:VEVENT
END:VCALENDAR
