BEGIN:VCALENDAR
VERSION:2.0
PRODID:SchoolNow
CALSCALE:GREGORIAN
BEGIN:VEVENT
UID:e6d64d28-7b42-11ef-ac5a-0a58a9feac02
DTSTAMP:20240925T133434Z
SUMMARY:No School - New Year's Observed
URL;VALUE=URI:https://www.norwood.k12.ma.us/cms/calendar/6687295/no-school-
 new-years-observed
DTSTART:20250101T134500Z
DTEND:20250101T202000Z
END:VEVENT
END:VCALENDAR
