BEGIN:VCALENDAR
VERSION:2.0
PRODID:SchoolNow
CALSCALE:GREGORIAN
BEGIN:VEVENT
UID:f0e035a2-7b58-11ef-9e19-0a58a9feac02
DTSTAMP:20240925T161220Z
SUMMARY:No School - February Vacation
URL;VALUE=URI:https://www.norwood.k12.ma.us/cms/calendar/6688996/no-school-
 february-vacation
DTSTART:20250217T134500Z
DTEND:20250221T202000Z
END:VEVENT
END:VCALENDAR
